BEGIN:VCALENDAR
VERSION:2.0
PRODID:-//Lincoln Park Academy - ECPv5.16.4//NONSGML v1.0//EN
CALSCALE:GREGORIAN
METHOD:PUBLISH
X-WR-CALNAME:Lincoln Park Academy
X-ORIGINAL-URL:https://acalincolnp.com
X-WR-CALDESC:Events for Lincoln Park Academy
BEGIN:VTIMEZONE
TZID:America/New_York
BEGIN:DAYLIGHT
TZOFFSETFROM:-0500
TZOFFSETTO:-0400
TZNAME:EDT
DTSTART:20240310T070000
END:DAYLIGHT
BEGIN:STANDARD
TZOFFSETFROM:-0400
TZOFFSETTO:-0500
TZNAME:EST
DTSTART:20241103T060000
END:STANDARD
END:VTIMEZONE
BEGIN:VEVENT
DTSTART;TZID=America/New_York:20241016T163000
DTEND;TZID=America/New_York:20241016T183000
DTSTAMP:20260421T141020
CREATED:20240925T122521Z
LAST-MODIFIED:20240925T122521Z
UID:11060-1729096200-1729103400@acalincolnp.com
SUMMARY:Trunk-or-Treat
DESCRIPTION:Celebrate the season and show off your Halloween costumes! Join us for trick-or-treating & activities\, games & treats for the family. BYO treat bag. It’s not too late to enroll for the school year–bring a friend!  \nRSVP Today: acalincolnp.com/events
URL:https://acalincolnp.com/event/trunk-or-treat-2/
LOCATION:Lincoln Park Academy\, 3185 West 41st Street\, Cleveland\, OH\, 44109\, United States
CATEGORIES:Calendar Only,Prospective Families, Events, Home
GEO:41.467426;-81.7126849
X-APPLE-STRUCTURED-LOCATION;VALUE=URI;X-ADDRESS=Lincoln Park Academy 3185 West 41st Street Cleveland OH 44109 United States;X-APPLE-RADIUS=500;X-TITLE=3185 West 41st Street:geo:-81.7126849,41.467426
END:VEVENT
END:VCALENDAR