BEGIN:VCALENDAR
VERSION:2.0
PRODID:-//Lincoln Park Academy - ECPv5.16.4//NONSGML v1.0//EN
CALSCALE:GREGORIAN
METHOD:PUBLISH
X-WR-CALNAME:Lincoln Park Academy
X-ORIGINAL-URL:https://acalincolnp.com
X-WR-CALDESC:Events for Lincoln Park Academy
BEGIN:VTIMEZONE
TZID:America/New_York
BEGIN:DAYLIGHT
TZOFFSETFROM:-0500
TZOFFSETTO:-0400
TZNAME:EDT
DTSTART:20250309T070000
END:DAYLIGHT
BEGIN:STANDARD
TZOFFSETFROM:-0400
TZOFFSETTO:-0500
TZNAME:EST
DTSTART:20251102T060000
END:STANDARD
END:VTIMEZONE
BEGIN:VEVENT
DTSTART;TZID=America/New_York:20250821T160000
DTEND;TZID=America/New_York:20250821T180000
DTSTAMP:20260421T161535
CREATED:20250806T194636Z
LAST-MODIFIED:20250806T194636Z
UID:11365-1755792000-1755799200@acalincolnp.com
SUMMARY:Teacher Meet & Greet
DESCRIPTION:It’s Back to School season & there is still time to enroll! Join us to meet your teacher\, see your classroom\, enjoy refreshments\, enrollment support\, and prepare for a smooth start to the new school year!  \nRSVP Today! acalincolnp.com/events
URL:https://acalincolnp.com/event/teacher-meet-greet/
LOCATION:Lincoln Park Academy\, 3185 West 41st Street\, Cleveland\, OH\, 44109\, United States
CATEGORIES:Calendar Only,Prospective Families, Events, Home
GEO:41.467426;-81.7126849
X-APPLE-STRUCTURED-LOCATION;VALUE=URI;X-ADDRESS=Lincoln Park Academy 3185 West 41st Street Cleveland OH 44109 United States;X-APPLE-RADIUS=500;X-TITLE=3185 West 41st Street:geo:-81.7126849,41.467426
END:VEVENT
END:VCALENDAR