BEGIN:VCALENDAR
VERSION:2.0
PRODID:-//Lincoln Park Academy - ECPv5.16.4//NONSGML v1.0//EN
CALSCALE:GREGORIAN
METHOD:PUBLISH
X-WR-CALNAME:Lincoln Park Academy
X-ORIGINAL-URL:https://acalincolnp.com
X-WR-CALDESC:Events for Lincoln Park Academy
BEGIN:VTIMEZONE
TZID:America/New_York
BEGIN:DAYLIGHT
TZOFFSETFROM:-0500
TZOFFSETTO:-0400
TZNAME:EDT
DTSTART:20250309T070000
END:DAYLIGHT
BEGIN:STANDARD
TZOFFSETFROM:-0400
TZOFFSETTO:-0500
TZNAME:EST
DTSTART:20251102T060000
END:STANDARD
END:VTIMEZONE
BEGIN:VEVENT
DTSTART;VALUE=DATE:20250414
DTEND;VALUE=DATE:20250418
DTSTAMP:20260421T192400
CREATED:20240830T190257Z
LAST-MODIFIED:20240830T190257Z
UID:11017-1744588800-1744934399@acalincolnp.com
SUMMARY:Spring State Math Testing Grades 3-8 TENTATIVE
DESCRIPTION:
URL:https://acalincolnp.com/event/spring-state-math-testing-grades-3-8-tentative/
CATEGORIES:Calendar Only
END:VEVENT
END:VCALENDAR