BEGIN:VCALENDAR
VERSION:2.0
PRODID:-//Lincoln Park Academy - ECPv5.16.4//NONSGML v1.0//EN
CALSCALE:GREGORIAN
METHOD:PUBLISH
X-WR-CALNAME:Lincoln Park Academy
X-ORIGINAL-URL:https://acalincolnp.com
X-WR-CALDESC:Events for Lincoln Park Academy
BEGIN:VTIMEZONE
TZID:America/New_York
BEGIN:DAYLIGHT
TZOFFSETFROM:-0500
TZOFFSETTO:-0400
TZNAME:EDT
DTSTART:20240310T070000
END:DAYLIGHT
BEGIN:STANDARD
TZOFFSETFROM:-0400
TZOFFSETTO:-0500
TZNAME:EST
DTSTART:20241103T060000
END:STANDARD
END:VTIMEZONE
BEGIN:VEVENT
DTSTART;TZID=America/New_York:20240503T100000
DTEND;TZID=America/New_York:20240503T170000
DTSTAMP:20260421T143735
CREATED:20240424T174858Z
LAST-MODIFIED:20240424T174858Z
UID:10360-1714730400-1714755600@acalincolnp.com
SUMMARY:Kindergarten Registration Day
DESCRIPTION:It’s time to register for Early K and Kindergarten! Join us to learn more about our school culture\, academics\, extracurricular programs\, and school services. Tour our campus\, meet our staff\, and preview our easy registration process! \nRSVP Today: acalincolnp.com/events
URL:https://acalincolnp.com/event/kindergarten-registration-day/
LOCATION:Lincoln Park Academy\, 3185 West 41st Street\, Cleveland\, OH\, 44109\, United States
CATEGORIES:Calendar Only,Prospective Families, Events, Home
GEO:41.467426;-81.7126849
X-APPLE-STRUCTURED-LOCATION;VALUE=URI;X-ADDRESS=Lincoln Park Academy 3185 West 41st Street Cleveland OH 44109 United States;X-APPLE-RADIUS=500;X-TITLE=3185 West 41st Street:geo:-81.7126849,41.467426
END:VEVENT
END:VCALENDAR