BEGIN:VCALENDAR
VERSION:2.0
PRODID:-//Lincoln Park Academy - ECPv5.16.4//NONSGML v1.0//EN
CALSCALE:GREGORIAN
METHOD:PUBLISH
X-WR-CALNAME:Lincoln Park Academy
X-ORIGINAL-URL:https://acalincolnp.com
X-WR-CALDESC:Events for Lincoln Park Academy
BEGIN:VTIMEZONE
TZID:America/New_York
BEGIN:DAYLIGHT
TZOFFSETFROM:-0500
TZOFFSETTO:-0400
TZNAME:EDT
DTSTART:20230312T070000
END:DAYLIGHT
BEGIN:STANDARD
TZOFFSETFROM:-0400
TZOFFSETTO:-0500
TZNAME:EST
DTSTART:20231105T060000
END:STANDARD
END:VTIMEZONE
BEGIN:VEVENT
DTSTART;TZID=America/New_York:20230516T100000
DTEND;TZID=America/New_York:20230516T150000
DTSTAMP:20260421T160444
CREATED:20230504T150933Z
LAST-MODIFIED:20230504T150942Z
UID:9064-1684231200-1684249200@acalincolnp.com
SUMMARY:Field Day
DESCRIPTION:We had a great school year & it’s time to amp up the fun! Join us on the field to celebrate! Enjoy field games\, snacks\, music & the opportunity to visit with families and staff before the summer break.
URL:https://acalincolnp.com/event/field-day-2/
LOCATION:Lincoln Park Academy\, 3185 West 41st Street\, Cleveland\, OH\, 44109\, United States
CATEGORIES:Calendar Only
GEO:41.467426;-81.7126849
X-APPLE-STRUCTURED-LOCATION;VALUE=URI;X-ADDRESS=Lincoln Park Academy 3185 West 41st Street Cleveland OH 44109 United States;X-APPLE-RADIUS=500;X-TITLE=3185 West 41st Street:geo:-81.7126849,41.467426
END:VEVENT
END:VCALENDAR