BEGIN:VCALENDAR
VERSION:2.0
PRODID:-//Lincoln Park Academy - ECPv5.16.4//NONSGML v1.0//EN
CALSCALE:GREGORIAN
METHOD:PUBLISH
X-WR-CALNAME:Lincoln Park Academy
X-ORIGINAL-URL:https://acalincolnp.com
X-WR-CALDESC:Events for Lincoln Park Academy
BEGIN:VTIMEZONE
TZID:America/New_York
BEGIN:DAYLIGHT
TZOFFSETFROM:-0500
TZOFFSETTO:-0400
TZNAME:EDT
DTSTART:20260308T070000
END:DAYLIGHT
BEGIN:STANDARD
TZOFFSETFROM:-0400
TZOFFSETTO:-0500
TZNAME:EST
DTSTART:20261101T060000
END:STANDARD
END:VTIMEZONE
BEGIN:VEVENT
DTSTART;VALUE=DATE:20260216
DTEND;VALUE=DATE:20260217
DTSTAMP:20260421T160149
CREATED:20250820T203402Z
LAST-MODIFIED:20260114T195142Z
UID:11413-1771200000-1771286399@acalincolnp.com
SUMMARY:No School- President's Day
DESCRIPTION:
URL:https://acalincolnp.com/event/no-school-presidents-day-4/
LOCATION:Lincoln Park Academy\, 3185 West 41st Street\, Cleveland\, OH\, 44109\, United States
CATEGORIES:Calendar Only
GEO:41.467426;-81.7126849
X-APPLE-STRUCTURED-LOCATION;VALUE=URI;X-ADDRESS=Lincoln Park Academy 3185 West 41st Street Cleveland OH 44109 United States;X-APPLE-RADIUS=500;X-TITLE=3185 West 41st Street:geo:-81.7126849,41.467426
END:VEVENT
BEGIN:VEVENT
DTSTART;TZID=America/New_York:20260216T180000
DTEND;TZID=America/New_York:20260216T180000
DTSTAMP:20260421T160149
CREATED:20250818T163202Z
LAST-MODIFIED:20250818T163202Z
UID:11383-1771264800-1771264800@acalincolnp.com
SUMMARY:Board Meeting
DESCRIPTION:
URL:https://acalincolnp.com/event/board-meeting-42/
LOCATION:Lincoln Park Academy\, 3185 West 41st Street\, Cleveland\, OH\, 44109\, United States
CATEGORIES:Calendar Only,School Board
GEO:41.467426;-81.7126849
X-APPLE-STRUCTURED-LOCATION;VALUE=URI;X-ADDRESS=Lincoln Park Academy 3185 West 41st Street Cleveland OH 44109 United States;X-APPLE-RADIUS=500;X-TITLE=3185 West 41st Street:geo:-81.7126849,41.467426
END:VEVENT
END:VCALENDAR